BEGIN:VCALENDAR
VERSION:2.0
PRODID:-//NPOI - ECPv6.15.20//NONSGML v1.0//EN
CALSCALE:GREGORIAN
METHOD:PUBLISH
X-WR-CALNAME:NPOI
X-ORIGINAL-URL:https://www.npoirving.com
X-WR-CALDESC:Events for NPOI
REFRESH-INTERVAL;VALUE=DURATION:PT1H
X-Robots-Tag:noindex
X-PUBLISHED-TTL:PT1H
BEGIN:VTIMEZONE
TZID:America/Chicago
BEGIN:DAYLIGHT
TZOFFSETFROM:-0600
TZOFFSETTO:-0500
TZNAME:CDT
DTSTART:20180311T080000
END:DAYLIGHT
BEGIN:STANDARD
TZOFFSETFROM:-0500
TZOFFSETTO:-0600
TZNAME:CST
DTSTART:20181104T070000
END:STANDARD
BEGIN:DAYLIGHT
TZOFFSETFROM:-0600
TZOFFSETTO:-0500
TZNAME:CDT
DTSTART:20190310T080000
END:DAYLIGHT
BEGIN:STANDARD
TZOFFSETFROM:-0500
TZOFFSETTO:-0600
TZNAME:CST
DTSTART:20191103T070000
END:STANDARD
BEGIN:DAYLIGHT
TZOFFSETFROM:-0600
TZOFFSETTO:-0500
TZNAME:CDT
DTSTART:20200308T080000
END:DAYLIGHT
BEGIN:STANDARD
TZOFFSETFROM:-0500
TZOFFSETTO:-0600
TZNAME:CST
DTSTART:20201101T070000
END:STANDARD
BEGIN:DAYLIGHT
TZOFFSETFROM:-0600
TZOFFSETTO:-0500
TZNAME:CDT
DTSTART:20210314T080000
END:DAYLIGHT
BEGIN:STANDARD
TZOFFSETFROM:-0500
TZOFFSETTO:-0600
TZNAME:CST
DTSTART:20211107T070000
END:STANDARD
END:VTIMEZONE
BEGIN:VTIMEZONE
TZID:UTC
BEGIN:STANDARD
TZOFFSETFROM:+0000
TZOFFSETTO:+0000
TZNAME:UTC
DTSTART:20170101T000000
END:STANDARD
END:VTIMEZONE
BEGIN:VEVENT
DTSTART;TZID=America/Chicago:20201213T153000
DTEND;TZID=America/Chicago:20201213T163000
DTSTAMP:20260423T094650
CREATED:20200824T050300Z
LAST-MODIFIED:20210118T204012Z
UID:940-1607873400-1607877000@www.npoirving.com
SUMMARY:Connections to the Holidays!
DESCRIPTION:Crisantemi — Giacomo Puccini\n\n\nSuite from Holberg’s Time\, Op. 40 — Edvard Grieg\n\n\n\n\nPrelude: allegro vivace\nSarabande: andante\nGavotte: allegretto\nAir: andante religioso\nRigaudon: allegro con bio\n\n\n\n\nSymphony in Brass — Eric Ewazen\n\n\n\n\nAndante; Allegro molto\nAndante con moto\nAllegro vivace\n\n\n\n\n\n\n\n\n\nWatch this video performance on YouTube!
URL:https://www.npoirving.com/event/december-performance/
LOCATION:Irving Arts Center – Carpenter Hall\, 3333 N MacArthur Blvd\, Irving\, TX\, 75062\, United States
END:VEVENT
BEGIN:VEVENT
DTSTART;TZID=America/Chicago:20201011T153000
DTEND;TZID=America/Chicago:20201011T163000
DTSTAMP:20260423T094650
CREATED:20200824T023005Z
LAST-MODIFIED:20210120T022418Z
UID:934-1602430200-1602433800@www.npoirving.com
SUMMARY:Fall Concert
DESCRIPTION:Serenade for Strings in E minor\, Op. 20 — Edward Elgar\nRomance in C\, Op. 42 — Jean Sibelius\nSerenade No. 6 for Orchestra in D Major\, K.239 — Wolfgang Amadeus Mozart\nFanfare from the ballet\, La Peri — Paul Dukas\nAntiphon — Anton Bruckner\n\n 
URL:https://www.npoirving.com/event/october-performance/
LOCATION:Irving Arts Center – Carpenter Hall\, 3333 N MacArthur Blvd\, Irving\, TX\, 75062\, United States
END:VEVENT
BEGIN:VEVENT
DTSTART;TZID=America/Chicago:20200209T153000
DTEND;TZID=America/Chicago:20200209T153000
DTSTAMP:20260423T094650
CREATED:20190820T030638Z
LAST-MODIFIED:20200123T230601Z
UID:467-1581262200-1581262200@www.npoirving.com
SUMMARY:Dazzling Music
DESCRIPTION:  \n\nGioachino Rossini: Overture to the opera\, The Barber of Seville\n555555with conductor Stephen Pandolfo\nMikhail Glinka: Capriccio brillante on the Jota Aragonesa\nCésar Franck: Symphony in D Minor\n\n \n55555 \nticket information
URL:https://www.npoirving.com/event/dazzling-music/
LOCATION:Irving Arts Center – Carpenter Hall\, 3333 N MacArthur Blvd\, Irving\, TX\, 75062\, United States
END:VEVENT
BEGIN:VEVENT
DTSTART;TZID=America/Chicago:20191215T153000
DTEND;TZID=America/Chicago:20191215T153000
DTSTAMP:20260423T094650
CREATED:20190819T211703Z
LAST-MODIFIED:20191122T185201Z
UID:457-1576423800-1576423800@www.npoirving.com
SUMMARY:Connections: Great American Landscapes
DESCRIPTION:55555 \n \n\nJerome Moross: Music for the film\, Big Country\nWilliam Grant Still: The Far West Suite\nAaron Copland: Suite from the ballet\, Appalachian Spring\nFerde Grofe: Grand Canyon Suite\n\n\nTake a holiday trip through America with our favorite music!  Bring a friend – or your kids – to hear a full symphony orchestra performing Grofe’s “Grand Canyon Suite” where you can feel the horses’ pace in “On the Trail” and thrill to the magnificent sight of the Canyon itself … \n… and let a Sunday afternoon take you across America with Copland’s famous “Appalachian Spring\,” written as a ballet for Martha Graham … Moross’s film music for “The Big Country”… and William Grant Still’s California scenes in his “Far West Suite.” \n  \nWHEN:  Sunday\, December 15 at 3;30 p.m.\nWHERE:  Irving Arts Center\, 3333 N. MacArthur Blvd. in Irving\nTICKETS: online or at 972-252-ARTS (2787) \n\n\n\n\n\n$20 adults\, $15 seniors\, $10 students\nNOTE: for special half-price ($5) student tickets\, use the ticketing code “CONNECTIONS”\n\n\n\n\n\n\nCome early\, at 2:30\, for “cake and conversation” in the lobby with Texas urban historian Dr. Bob Fairbanks of UTA\, longtime Irving community volunteer Christina Winters and members of the Irving Heritage Society\, who know a lot about “where we’ve come from.” And join the conversation\, sharing your own stories! \nIt’s the first in a new series of “Connections!” concerts focusing on the music of all the Americas. \n\n \n55555 \nticket information
URL:https://www.npoirving.com/event/connections-great-american-landscapes/
LOCATION:Irving Arts Center – Carpenter Hall\, 3333 N MacArthur Blvd\, Irving\, TX\, 75062\, United States
ATTACH;FMTTYPE=image/png:https://www.npoirving.com/wp-content/uploads/2019/08/NPOI-WRR-web-banner-121519.png
END:VEVENT
BEGIN:VEVENT
DTSTART;TZID=America/Chicago:20191013T153000
DTEND;TZID=America/Chicago:20191013T153000
DTSTAMP:20260423T094650
CREATED:20190819T210324Z
LAST-MODIFIED:20190905T204739Z
UID:453-1570980600-1570980600@www.npoirving.com
SUMMARY:Music and Mythology
DESCRIPTION:55555 \n \n\nRichard Wagner: Prelude to Act 1 of the opera\, Lohengrin\nAntonin Dvorak: The Midday Witch\, Opus 108\nWolfgang A Mozart: Symphony No. 41 in C Major\, “Jupiter”\n\n \n55555 \nticket information
URL:https://www.npoirving.com/event/music-and-mythology/
LOCATION:Irving Arts Center – Carpenter Hall\, 3333 N MacArthur Blvd\, Irving\, TX\, 75062\, United States
CATEGORIES:Sundays at the Symphony
END:VEVENT
BEGIN:VEVENT
DTSTART;TZID=America/Chicago:20190519T153000
DTEND;TZID=America/Chicago:20190519T153000
DTSTAMP:20260423T094650
CREATED:20180725T211555Z
LAST-MODIFIED:20180822T220947Z
UID:220-1558279800-1558279800@www.npoirving.com
SUMMARY:From the New World!
DESCRIPTION:Berlioz’s rousing Carnival Overture and Beethoven’s Leonore Overture no. 3  with Dvorak’s portrait of America – his Symphony no. 9\, From the New World!\n \nLudwig van Beethoven: Leonore Overture No. 3\nHector Berlioz: Roman Carnival Overture\nAntonin Dvorak: Symphony No. 9\, “From the new world” \nticket information
URL:https://www.npoirving.com/event/from-the-new-world/
LOCATION:Irving Arts Center – Carpenter Hall\, 3333 N MacArthur Blvd\, Irving\, TX\, 75062\, United States
CATEGORIES:Sundays at the Symphony
END:VEVENT
BEGIN:VEVENT
DTSTART;TZID=America/Chicago:20190519T143000
DTEND;TZID=America/Chicago:20190519T143000
DTSTAMP:20260423T094650
CREATED:20180725T211513Z
LAST-MODIFIED:20180817T185429Z
UID:219-1558276200-1558276200@www.npoirving.com
SUMMARY:Cheers! Silent auction
DESCRIPTION:2:30 p.m. – Cheers! – our annual silent auction– in Carpenter lobby. Open an hour before the concert and at intermission\, this provides needed funds to close our season of “Sundays at the Symphony” concerts and our work with Irving schools. More than 100 musical groups\, theaters\, museums and restaurants and other groups offer us gift certificates or season tickets. Bidding begins at 50% of their value.
URL:https://www.npoirving.com/event/cheers-silent-auction/
LOCATION:Irving Arts Center – Carpenter Hall\, 3333 N MacArthur Blvd\, Irving\, TX\, 75062\, United States
END:VEVENT
BEGIN:VEVENT
DTSTART;TZID=America/Chicago:20190210T161500
DTEND;TZID=America/Chicago:20190210T161500
DTSTAMP:20260423T094650
CREATED:20180725T210958Z
LAST-MODIFIED:20180817T185446Z
UID:214-1549815300-1549815300@www.npoirving.com
SUMMARY:Grace Note Awards
DESCRIPTION:4:15 p.m. – Grace Note Awards for 2019 are presented just after intermission – as each honored group receives a crystal etched award\, honoring their significant contribution to the arts in north Texas.
URL:https://www.npoirving.com/event/grace-note-awards/
LOCATION:Irving Arts Center – Carpenter Hall\, 3333 N MacArthur Blvd\, Irving\, TX\, 75062\, United States
END:VEVENT
BEGIN:VEVENT
DTSTART;TZID=UTC:20181014T153000
DTEND;TZID=UTC:20181014T153000
DTSTAMP:20260423T094650
CREATED:20180726T020348Z
LAST-MODIFIED:20181015T135319Z
UID:209-1539531000-1539531000@www.npoirving.com
SUMMARY:Arabian Nights
DESCRIPTION:At NPOI’s first concert (1988)\, Wagner’s Overture to Die Meistersinger\, Schubert’s Symphony no. 5 and a spellbinding violin in Rimsky-Korsakov’s Scheherazade.  We’ll do it again with violin soloist Adrian Demian! \n\nRichard Wagner: Overture to the opera\, Die Meistersinger von Nürnberg\nFranz Schubert: Symphony No. 5 in B-flat Major\nNikolai Rimsky-Korsakov: Scheherazade \nticket information
URL:https://www.npoirving.com/event/arabian-nights/
LOCATION:Irving Arts Center – Carpenter Hall\, 3333 N MacArthur Blvd\, Irving\, TX\, 75062\, United States
CATEGORIES:Sundays at the Symphony
END:VEVENT
BEGIN:VEVENT
DTSTART;VALUE=DATE:20180910
DTEND;VALUE=DATE:20180921
DTSTAMP:20260423T094650
CREATED:20180726T014818Z
LAST-MODIFIED:20180829T223838Z
UID:206-1536537600-1537487999@www.npoirving.com
SUMMARY:Giving Day in North Texas
DESCRIPTION:Give a kid (and his family) their “First Tickets” to hear a symphony orchestra! Your gift on Giving Day\, Sept. 20\, will help bring Irving’s sixth-graders and their families to Sundays at the Symphony! From 9/10 to midnight Giving Day\, 9/20\, go to NorthTexasGivingDay.org\, choose “NPOI” and donate any amount!
URL:https://www.npoirving.com/event/giving-day-in-north-texas/
LOCATION:TX
ATTACH;FMTTYPE=image/jpeg:https://www.npoirving.com/wp-content/uploads/2018/08/giving-day.jpg
END:VEVENT
END:VCALENDAR